BEGIN:VCALENDAR
VERSION:2.0
PRODID:-//Onyx Cares Foundation - ECPv6.15.17//NONSGML v1.0//EN
CALSCALE:GREGORIAN
METHOD:PUBLISH
X-WR-CALNAME:Onyx Cares Foundation
X-ORIGINAL-URL:https://onyxcares.org
X-WR-CALDESC:Events for Onyx Cares Foundation
REFRESH-INTERVAL;VALUE=DURATION:PT1H
X-Robots-Tag:noindex
X-PUBLISHED-TTL:PT1H
BEGIN:VTIMEZONE
TZID:America/New_York
BEGIN:DAYLIGHT
TZOFFSETFROM:-0500
TZOFFSETTO:-0400
TZNAME:EDT
DTSTART:20240310T070000
END:DAYLIGHT
BEGIN:STANDARD
TZOFFSETFROM:-0400
TZOFFSETTO:-0500
TZNAME:EST
DTSTART:20241103T060000
END:STANDARD
BEGIN:DAYLIGHT
TZOFFSETFROM:-0500
TZOFFSETTO:-0400
TZNAME:EDT
DTSTART:20250309T070000
END:DAYLIGHT
BEGIN:STANDARD
TZOFFSETFROM:-0400
TZOFFSETTO:-0500
TZNAME:EST
DTSTART:20251102T060000
END:STANDARD
BEGIN:DAYLIGHT
TZOFFSETFROM:-0500
TZOFFSETTO:-0400
TZNAME:EDT
DTSTART:20260308T070000
END:DAYLIGHT
BEGIN:STANDARD
TZOFFSETFROM:-0400
TZOFFSETTO:-0500
TZNAME:EST
DTSTART:20261101T060000
END:STANDARD
END:VTIMEZONE
BEGIN:VTIMEZONE
TZID:Pacific/Auckland
BEGIN:STANDARD
TZOFFSETFROM:+1300
TZOFFSETTO:+1200
TZNAME:NZST
DTSTART:20230401T140000
END:STANDARD
BEGIN:DAYLIGHT
TZOFFSETFROM:+1200
TZOFFSETTO:+1300
TZNAME:NZDT
DTSTART:20230923T140000
END:DAYLIGHT
BEGIN:STANDARD
TZOFFSETFROM:+1300
TZOFFSETTO:+1200
TZNAME:NZST
DTSTART:20240406T140000
END:STANDARD
BEGIN:DAYLIGHT
TZOFFSETFROM:+1200
TZOFFSETTO:+1300
TZNAME:NZDT
DTSTART:20240928T140000
END:DAYLIGHT
BEGIN:STANDARD
TZOFFSETFROM:+1300
TZOFFSETTO:+1200
TZNAME:NZST
DTSTART:20250405T140000
END:STANDARD
BEGIN:DAYLIGHT
TZOFFSETFROM:+1200
TZOFFSETTO:+1300
TZNAME:NZDT
DTSTART:20250927T140000
END:DAYLIGHT
END:VTIMEZONE
BEGIN:VTIMEZONE
TZID:America/Halifax
BEGIN:DAYLIGHT
TZOFFSETFROM:-0400
TZOFFSETTO:-0300
TZNAME:ADT
DTSTART:20230312T060000
END:DAYLIGHT
BEGIN:STANDARD
TZOFFSETFROM:-0300
TZOFFSETTO:-0400
TZNAME:AST
DTSTART:20231105T050000
END:STANDARD
BEGIN:DAYLIGHT
TZOFFSETFROM:-0400
TZOFFSETTO:-0300
TZNAME:ADT
DTSTART:20240310T060000
END:DAYLIGHT
BEGIN:STANDARD
TZOFFSETFROM:-0300
TZOFFSETTO:-0400
TZNAME:AST
DTSTART:20241103T050000
END:STANDARD
BEGIN:DAYLIGHT
TZOFFSETFROM:-0400
TZOFFSETTO:-0300
TZNAME:ADT
DTSTART:20250309T060000
END:DAYLIGHT
BEGIN:STANDARD
TZOFFSETFROM:-0300
TZOFFSETTO:-0400
TZNAME:AST
DTSTART:20251102T050000
END:STANDARD
END:VTIMEZONE
BEGIN:VEVENT
DTSTART;TZID=America/New_York:20251016T150000
DTEND;TZID=America/New_York:20251017T170000
DTSTAMP:20260423T081136
CREATED:20251103T192736Z
LAST-MODIFIED:20260304T023520Z
UID:10000014-1760626800-1760720400@onyxcares.org
SUMMARY:Onyx Cares Information Session for UMBC Meyerhoff Scholars
DESCRIPTION:
URL:https://onyxcares.org/event/onyx-cares-information-session-for-umbc-meyerhoff-scholars/
LOCATION:5850 Waterloo Road\, Suite 140\, 5850 Waterloo Road\, Suite 140\, Columbia\, 21044\, United States
ATTACH;FMTTYPE=image/png:https://onyxcares.org/wp-content/uploads/2025/11/UMBC-2.png
END:VEVENT
BEGIN:VEVENT
DTSTART;TZID=Pacific/Auckland:20241203T080000
DTEND;TZID=Pacific/Auckland:20241203T170000
DTSTAMP:20260423T081136
CREATED:20251103T192404Z
LAST-MODIFIED:20251103T193543Z
UID:10000013-1733212800-1733245200@onyxcares.org
SUMMARY:Florida International University (FIU) Engineering and Computing Scholarship Awardee
DESCRIPTION:
URL:https://onyxcares.org/event/florida-international-university-fiu-engineering-and-computing-scholarship-awardee/
LOCATION:5850 Waterloo Road\, Suite 140\, 5850 Waterloo Road\, Suite 140\, Columbia\, 21044\, United States
ATTACH;FMTTYPE=image/png:https://onyxcares.org/wp-content/uploads/2025/11/FIU-1.png
END:VEVENT
BEGIN:VEVENT
DTSTART;VALUE=DATE:20240610
DTEND;VALUE=DATE:20240611
DTSTAMP:20260423T081136
CREATED:20240611T161439Z
LAST-MODIFIED:20251103T194454Z
UID:10000010-1717977600-1718063999@onyxcares.org
SUMMARY:The Onyx Cares Foundation proudly supported 62nd 8th graders at Dora Kennedy French Immersion (DKFI) School!
DESCRIPTION:
URL:https://onyxcares.org/event/the-onyx-cares-foundation-proudly-supported-62-8th-graders-at-dora-kennedy-french-immersion-dkfi-school/
LOCATION:5850 Waterloo Road\, Suite 140\, 5850 Waterloo Road\, Suite 140\, Columbia\, 21044\, United States
ATTACH;FMTTYPE=image/jpeg:https://onyxcares.org/wp-content/uploads/2024/06/447829776_10234427995507997_6283570528036955128_n1-scaled.jpg
END:VEVENT
BEGIN:VEVENT
DTSTART;VALUE=DATE:20240326
DTEND;VALUE=DATE:20240327
DTSTAMP:20260423T081136
CREATED:20240611T155316Z
LAST-MODIFIED:20240611T160922Z
UID:10000009-1711411200-1711497599@onyxcares.org
SUMMARY:The Onyx Cares Foundation becomes Prince George's County School approved vendor
DESCRIPTION:
URL:https://onyxcares.org/event/the-onyx-cares-foundation-becomes-prince-georges-county-school-approved-vendor/
LOCATION:5850 Waterloo Road\, Suite 140\, 5850 Waterloo Road\, Suite 140\, Columbia\, 21044\, United States
ATTACH;FMTTYPE=image/png:https://onyxcares.org/wp-content/uploads/2024/06/PGCPS-4.png
END:VEVENT
BEGIN:VEVENT
DTSTART;VALUE=DATE:20240311
DTEND;VALUE=DATE:20240312
DTSTAMP:20260423T081136
CREATED:20240202T161022Z
LAST-MODIFIED:20240310T053305Z
UID:10000003-1710115200-1710201599@onyxcares.org
SUMMARY:The Onyx Cares Foundation Website Goes Live
DESCRIPTION:Welcome to the The Onyx Cares Foundation!
URL:https://onyxcares.org/event/example-event-1/
LOCATION:5850 Waterloo Road\, Suite 140\, 5850 Waterloo Road\, Suite 140\, Columbia\, 21044\, United States
ATTACH;FMTTYPE=image/jpeg:https://onyxcares.org/wp-content/uploads/2024/02/Onyx_Cares_Logo_standard-1-scaled.jpg
END:VEVENT
END:VCALENDAR